BEGIN:VCALENDAR
VERSION:2.0
PRODID:-//SVP Tägerig //NONSGML Events //EN
CALSCALE:GREGORIAN
X-WR-CALNAME:SVP Tägerig
BEGIN:VEVENT
CREATED:20241216T074444Z
UID:1269
DTEND:20250917T200000
DTSTART:20250917T190000
DTSTAMP:20260425T214030Z
LOCATION:Bistro Bleiche\, Zofingen
DESCRIPTION:Alle sind herzlich eingeladen zum Grossrats-Rückblick.
SUMMARY:SVP Bezirk Zofingen: Grossrats-Rückblick
ORGANIZER:
URL;VALUE=URI:https://www.svp-taegerig.ch/termine/svp-bezirk-zofingen-grossrats-rueckblick/
TRANSP:OPAQUE
END:VEVENT
END:VCALENDAR
