BEGIN:VCALENDAR
VERSION:2.0
PRODID:-//SVP Tägerig //NONSGML Events //EN
CALSCALE:GREGORIAN
X-WR-CALNAME:SVP Tägerig
BEGIN:VEVENT
CREATED:20240827T103508Z
UID:1233
DTEND:20240928T120000
DTSTART:20240928T110000
DTSTAMP:20260423T161655Z
LOCATION:
DESCRIPTION:Alle sind willkommen auf dem Dorfplatz in Densbüren
SUMMARY:SVP bi de Lüüt in Densbüren
ORGANIZER:
URL;VALUE=URI:https://www.svp-taegerig.ch/termine/svp-bi-de-lueuet-in-densbueren/
TRANSP:OPAQUE
END:VEVENT
END:VCALENDAR
