BEGIN:VCALENDAR
VERSION:2.0
PRODID:-//SVP Tägerig //NONSGML Events //EN
CALSCALE:GREGORIAN
X-WR-CALNAME:SVP Tägerig
BEGIN:VEVENT
CREATED:20220723T022418Z
UID:1025
DTEND:20220820T100000
DTSTART:20220820T090000
DTSTAMP:20260423T064525Z
LOCATION:
DESCRIPTION:Flyer Waldumgang
SUMMARY:Waldumgang SVP Merenschwand Benzenschwil
ORGANIZER:
URL;VALUE=URI:https://www.svp-taegerig.ch/termine/waldumgang-svp-merenschwand-benzenschwil/
TRANSP:OPAQUE
END:VEVENT
END:VCALENDAR
